BEGIN:VCALENDAR
VERSION:2.0
PRODID:-//OLDF - ECPv6.11.2.1//NONSGML v1.0//EN
CALSCALE:GREGORIAN
METHOD:PUBLISH
X-WR-CALNAME:OLDF
X-ORIGINAL-URL:https://oldf.org
X-WR-CALDESC:Events for OLDF
REFRESH-INTERVAL;VALUE=DURATION:PT1H
X-Robots-Tag:noindex
X-PUBLISHED-TTL:PT1H
BEGIN:VTIMEZONE
TZID:America/Toronto
BEGIN:DAYLIGHT
TZOFFSETFROM:-0500
TZOFFSETTO:-0400
TZNAME:EDT
DTSTART:20210314T070000
END:DAYLIGHT
BEGIN:STANDARD
TZOFFSETFROM:-0400
TZOFFSETTO:-0500
TZNAME:EST
DTSTART:20211107T060000
END:STANDARD
END:VTIMEZONE
BEGIN:VEVENT
DTSTART;TZID=America/Toronto:20210714T073000
DTEND;TZID=America/Toronto:20210714T100000
DTSTAMP:20260422T205423
CREATED:20210704T071906Z
LAST-MODIFIED:20210814T065343Z
UID:1175-1626247800-1626256800@oldf.org
SUMMARY:Healthy Relationships
DESCRIPTION:
URL:https://oldf.org/event-v1/safe-and-strong/
LOCATION:Virtual
CATEGORIES:Education,Health
ATTACH;FMTTYPE=image/png:https://oldf.org/wp-content/uploads/2019/06/Topic-1-2.png
ORGANIZER;CN="Safe and strong Project":MAILTO:safeandstrong@oldf.org
END:VEVENT
BEGIN:VEVENT
DTSTART;TZID=America/Toronto:20210728T113000
DTEND;TZID=America/Toronto:20210728T140000
DTSTAMP:20260422T205423
CREATED:20210814T065617Z
LAST-MODIFIED:20210814T065617Z
UID:1908-1627471800-1627480800@oldf.org
SUMMARY:Healthy Relationships
DESCRIPTION:
URL:https://oldf.org/event-v1/healthy-relationships/
LOCATION:Virtual
CATEGORIES:Education,Health
ATTACH;FMTTYPE=image/png:https://oldf.org/wp-content/uploads/2019/06/Sexual-Education-Panel.png
END:VEVENT
END:VCALENDAR