BEGIN:VCALENDAR
VERSION:2.0
PRODID:-//OLDF - ECPv6.11.2.1//NONSGML v1.0//EN
CALSCALE:GREGORIAN
METHOD:PUBLISH
X-WR-CALNAME:OLDF
X-ORIGINAL-URL:https://oldf.org
X-WR-CALDESC:Events for OLDF
REFRESH-INTERVAL;VALUE=DURATION:PT1H
X-Robots-Tag:noindex
X-PUBLISHED-TTL:PT1H
BEGIN:VTIMEZONE
TZID:America/Toronto
BEGIN:DAYLIGHT
TZOFFSETFROM:-0500
TZOFFSETTO:-0400
TZNAME:EDT
DTSTART:20210314T070000
END:DAYLIGHT
BEGIN:STANDARD
TZOFFSETFROM:-0400
TZOFFSETTO:-0500
TZNAME:EST
DTSTART:20211107T060000
END:STANDARD
END:VTIMEZONE
BEGIN:VEVENT
DTSTART;TZID=America/Toronto:20210913T160000
DTEND;TZID=America/Toronto:20211217T180000
DTSTAMP:20260423T023743
CREATED:20210814T070527Z
LAST-MODIFIED:20210814T070527Z
UID:1913-1631548800-1639764000@oldf.org
SUMMARY:Homework Club
DESCRIPTION:An after-school homework club would provide the necessary safe space\, tutoring\, and support to inspire children to excel. The homework club includes support to complete assignments\, reading/literacy activities.
URL:https://oldf.org/event-v1/homework-club/
LOCATION:Virtual
CATEGORIES:Education
END:VEVENT
END:VCALENDAR